BEGIN:VCALENDAR
VERSION:2.0
PRODID:-//South County Dems STL - ECPv6.15.20//NONSGML v1.0//EN
CALSCALE:GREGORIAN
METHOD:PUBLISH
X-WR-CALNAME:South County Dems STL
X-ORIGINAL-URL:https://southcountydems.com
X-WR-CALDESC:Events for South County Dems STL
REFRESH-INTERVAL;VALUE=DURATION:PT1H
X-Robots-Tag:noindex
X-PUBLISHED-TTL:PT1H
BEGIN:VTIMEZONE
TZID:America/Chicago
BEGIN:DAYLIGHT
TZOFFSETFROM:-0600
TZOFFSETTO:-0500
TZNAME:CDT
DTSTART:20230312T080000
END:DAYLIGHT
BEGIN:STANDARD
TZOFFSETFROM:-0500
TZOFFSETTO:-0600
TZNAME:CST
DTSTART:20231105T070000
END:STANDARD
BEGIN:DAYLIGHT
TZOFFSETFROM:-0600
TZOFFSETTO:-0500
TZNAME:CDT
DTSTART:20240310T080000
END:DAYLIGHT
BEGIN:STANDARD
TZOFFSETFROM:-0500
TZOFFSETTO:-0600
TZNAME:CST
DTSTART:20241103T070000
END:STANDARD
BEGIN:DAYLIGHT
TZOFFSETFROM:-0600
TZOFFSETTO:-0500
TZNAME:CDT
DTSTART:20250309T080000
END:DAYLIGHT
BEGIN:STANDARD
TZOFFSETFROM:-0500
TZOFFSETTO:-0600
TZNAME:CST
DTSTART:20251102T070000
END:STANDARD
END:VTIMEZONE
BEGIN:VEVENT
DTSTART;TZID=America/Chicago:20241205T173000
DTEND;TZID=America/Chicago:20241205T203000
DTSTAMP:20260419T183825
CREATED:20241129T220152Z
LAST-MODIFIED:20241129T220152Z
UID:10000150-1733419800-1733430600@southcountydems.com
SUMMARY:Holiday Party
DESCRIPTION:St. Louis City Democrats–St. Louis County Democrats Holiday Party featuring the \nUgly Sweater Competition  \nDoors open at 5:30 pm; Ugly Sweater Competition begins at 6:30pm \nFood and drink provided \nTeamsters Hall 682 5730 Elizabeth Ave.\, St. Louis\, MO 63110 \nTickets $10 per person at https://secure.actblue.com/donate/uglysweater2024
URL:https://southcountydems.com/event/holiday-party/
LOCATION:Teamsters Hall Local 682\, 5730 Elizabeth Ave.\, St. Louis\, 63110
CATEGORIES:Social
ATTACH;FMTTYPE=image/jpeg:https://southcountydems.com/wp-content/uploads/2024/11/image3.jpg
GEO:38.614679884333;-90.284517516575
X-APPLE-STRUCTURED-LOCATION;VALUE=URI;X-ADDRESS=Teamsters Hall Local 682 5730 Elizabeth Ave. St. Louis 63110;X-APPLE-RADIUS=500;X-TITLE=5730 Elizabeth Ave.:geo:-90.284517516575,38.614679884333
END:VEVENT
END:VCALENDAR