BEGIN:VCALENDAR
VERSION:2.0
PRODID:-//South County Dems STL - ECPv6.15.20//NONSGML v1.0//EN
CALSCALE:GREGORIAN
METHOD:PUBLISH
X-ORIGINAL-URL:https://southcountydems.com
X-WR-CALDESC:Events for South County Dems STL
REFRESH-INTERVAL;VALUE=DURATION:PT1H
X-Robots-Tag:noindex
X-PUBLISHED-TTL:PT1H
BEGIN:VTIMEZONE
TZID:America/Chicago
BEGIN:DAYLIGHT
TZOFFSETFROM:-0600
TZOFFSETTO:-0500
TZNAME:CDT
DTSTART:20230312T080000
END:DAYLIGHT
BEGIN:STANDARD
TZOFFSETFROM:-0500
TZOFFSETTO:-0600
TZNAME:CST
DTSTART:20231105T070000
END:STANDARD
BEGIN:DAYLIGHT
TZOFFSETFROM:-0600
TZOFFSETTO:-0500
TZNAME:CDT
DTSTART:20240310T080000
END:DAYLIGHT
BEGIN:STANDARD
TZOFFSETFROM:-0500
TZOFFSETTO:-0600
TZNAME:CST
DTSTART:20241103T070000
END:STANDARD
BEGIN:DAYLIGHT
TZOFFSETFROM:-0600
TZOFFSETTO:-0500
TZNAME:CDT
DTSTART:20250309T080000
END:DAYLIGHT
BEGIN:STANDARD
TZOFFSETFROM:-0500
TZOFFSETTO:-0600
TZNAME:CST
DTSTART:20251102T070000
END:STANDARD
END:VTIMEZONE
BEGIN:VEVENT
DTSTART;TZID=America/Chicago:20240924T190000
DTEND;TZID=America/Chicago:20240924T210000
DTSTAMP:20260419T154539
CREATED:20240921T123730Z
LAST-MODIFIED:20240921T123730Z
UID:10000122-1727204400-1727211600@southcountydems.com
SUMMARY:Tesson Ferry Dems - September Meeting
DESCRIPTION:The countdown to Election Day is on! Join us to hear from KEVIN SCHARTNER\, former Mehlville School Board President and candidate for St. Louis County Council District 6. Kevin has been a dedicated advocate for Mehlville schools and the South County community. Learn more about his campaign\, his goals for District 6\, and how we can support his race.We’re also excited to have JONATHAN BOESCH\, the Executive Director of the St. Louis County Democratic Central Committee\, joining us. He will discuss his plan for increasing voter turnout in South County and ways we can all help get out the vote for our candidate in SOCO! 
URL:https://southcountydems.com/event/tesson-ferry-dems-september-meeting/
LOCATION:Frailey’s Southtown Grill\, 4329 Butler Hill Rd\, Saint Louis\, MO\, 63128\, United States
CATEGORIES:Social
ATTACH;FMTTYPE=image/jpeg:https://southcountydems.com/wp-content/uploads/2024/09/460231390_122168339186184238_756706357756181123_n.jpg
END:VEVENT
END:VCALENDAR