BEGIN:VCALENDAR
VERSION:2.0
PRODID:-//South County Dems STL - ECPv6.15.20//NONSGML v1.0//EN
CALSCALE:GREGORIAN
METHOD:PUBLISH
X-WR-CALNAME:South County Dems STL
X-ORIGINAL-URL:https://southcountydems.com
X-WR-CALDESC:Events for South County Dems STL
REFRESH-INTERVAL;VALUE=DURATION:PT1H
X-Robots-Tag:noindex
X-PUBLISHED-TTL:PT1H
BEGIN:VTIMEZONE
TZID:America/Chicago
BEGIN:DAYLIGHT
TZOFFSETFROM:-0600
TZOFFSETTO:-0500
TZNAME:CDT
DTSTART:20220313T080000
END:DAYLIGHT
BEGIN:STANDARD
TZOFFSETFROM:-0500
TZOFFSETTO:-0600
TZNAME:CST
DTSTART:20221106T070000
END:STANDARD
BEGIN:DAYLIGHT
TZOFFSETFROM:-0600
TZOFFSETTO:-0500
TZNAME:CDT
DTSTART:20230312T080000
END:DAYLIGHT
BEGIN:STANDARD
TZOFFSETFROM:-0500
TZOFFSETTO:-0600
TZNAME:CST
DTSTART:20231105T070000
END:STANDARD
BEGIN:DAYLIGHT
TZOFFSETFROM:-0600
TZOFFSETTO:-0500
TZNAME:CDT
DTSTART:20240310T080000
END:DAYLIGHT
BEGIN:STANDARD
TZOFFSETFROM:-0500
TZOFFSETTO:-0600
TZNAME:CST
DTSTART:20241103T070000
END:STANDARD
BEGIN:DAYLIGHT
TZOFFSETFROM:-0600
TZOFFSETTO:-0500
TZNAME:CDT
DTSTART:20250309T080000
END:DAYLIGHT
BEGIN:STANDARD
TZOFFSETFROM:-0500
TZOFFSETTO:-0600
TZNAME:CST
DTSTART:20251102T070000
END:STANDARD
END:VTIMEZONE
BEGIN:VEVENT
DTSTART;TZID=America/Chicago:20240425T173000
DTEND;TZID=America/Chicago:20240425T210000
DTSTAMP:20260424T030417
CREATED:20240411T134315Z
LAST-MODIFIED:20240411T134315Z
UID:10000031-1714066200-1714078800@southcountydems.com
SUMMARY:Hello Candidates!  Happy Hour
DESCRIPTION:Back by popular demand! Meet your local candidates and fellow Democrats. We’ll be hanging out in the garden area near the food trucks. Drop by as your schedule allows.\nImage description: Hello Candidates! Happy Hour on Thursday\, April 25. Drop by any time between 5:30 pm and 9:00 pm at 9 Mile Garden 9375 Gravois Rd Affton\, MO. Come say hello to your local Democratic candidates and like-minded neighbors! Hosted by South County Democratic Club.
URL:https://southcountydems.com/event/hello-candidates-happy-hour/
LOCATION:9 Mile Garden\, 9375 Gravois Road\, Affton\, MO\, 63123\, United States
CATEGORIES:Social
ATTACH;FMTTYPE=image/jpeg:https://southcountydems.com/wp-content/uploads/2024/04/434850573_433625315989384_4402240671323772005_n.jpg
ORGANIZER;CN="South County Dems":MAILTO:info@southcountydems.com
END:VEVENT
BEGIN:VEVENT
DTSTART;TZID=America/Chicago:20240327T190000
DTEND;TZID=America/Chicago:20240327T210000
DTSTAMP:20260424T030417
CREATED:20240228T190541Z
LAST-MODIFIED:20240326T163119Z
UID:10000022-1711566000-1711573200@southcountydems.com
SUMMARY:School Board Candidates: Meet + Greet
DESCRIPTION:Ahead of the election on April 2\, come meet and hear from school board candidates from the following South County school districts: Lindbergh and Mehlville. Note: Candidates from Hancock Place are unable to attend.\n\nThis is a non-partisan event. All candidates were invited\, and all are welcome to attend. Light refreshments will be served.\n\nWhat to expect: Each candidate will have 2 minutes to introduce themselves to everyone. Then\, each candidate will have a table where a small group of voters can sit down with them to ask questions and learn more about them. Voters will rotate around as they wish given various school districts will be present. Find your sample ballot here: https://stlouiscovotes.maps.arcgis.com/…/index.html…\n\nAffton Fire District House #1\n9282 Gravois Road\nAffton\, MO 63123\n*Parking available in the rear of the building.
URL:https://southcountydems.com/event/school-board-candidates-meet-greet/
LOCATION:Affton Fire District Admin House #1\, 9282 Gravois Rd\, Affton\, 63123
CATEGORIES:Social
ATTACH;FMTTYPE=image/png:https://southcountydems.com/wp-content/uploads/2024/02/Black-Natural-Photo-Welcome-Back-to-School-Instagram-Post.png
ORGANIZER;CN="South County Dems":MAILTO:info@southcountydems.com
END:VEVENT
BEGIN:VEVENT
DTSTART;TZID=America/Chicago:20240307T190000
DTEND;TZID=America/Chicago:20240307T210000
DTSTAMP:20260424T030417
CREATED:20240301T163840Z
LAST-MODIFIED:20240301T163840Z
UID:10000023-1709838000-1709845200@southcountydems.com
SUMMARY:Ray Reed @ Hadley Township Democrats Meeting
DESCRIPTION:Ray will be speaking at the March Hadley Township Democratic Meeting. We’d love for you to come and visit with Ray to learn more about our campaign and hear about how Ray wants to bring our community with him to the capitol building.
URL:https://southcountydems.com/event/ray-reed-hadley-township-democrats-meeting/
LOCATION:Schlafly Bottleworks\, 7260 Southwest Avenue\, Saint Louis\, MO\, 63143\, United States
CATEGORIES:Social
ATTACH;FMTTYPE=image/jpeg:https://southcountydems.com/wp-content/uploads/2024/03/423133396_404286678798359_244110351387115022_n-e1709310966305.jpg
ORGANIZER;CN="Ray Reed":MAILTO:info@rayreedmo.com
END:VEVENT
BEGIN:VEVENT
DTSTART;TZID=America/Chicago:20231213T173000
DTEND;TZID=America/Chicago:20231213T203000
DTSTAMP:20260424T030417
CREATED:20231123T044912Z
LAST-MODIFIED:20231123T045310Z
UID:10000010-1702488600-1702499400@southcountydems.com
SUMMARY:St. Louis City-County Holiday Party
DESCRIPTION:We’re changing up the Holiday Party with an \nUgly Sweater Caucus Competition! \nDecember 13th\, 2023 \nDoors open at 5:30 pm \nTeamsters Hall Local 682 \n5730 Elizabeth Ave. \nSt. Louis\, MO 63110 \n$10 Individual Ticket Open to Everyone \nBecome a candidate for the Ugly Sweater Caucus Competition \nWe’re also recruiting candidates to run in the Ugly Sweater Caucus. \nGet your tickets and drag your voters to the Party and VOTE like a Democrat! \nFood and beverages will be provided.
URL:https://southcountydems.com/event/st-louis-city-county-holiday-party/
LOCATION:Teamsters Hall Local 682\, 5730 Elizabeth Ave.\, St. Louis\, 63110
CATEGORIES:Social
ATTACH;FMTTYPE=image/jpeg:https://southcountydems.com/wp-content/uploads/2023/11/399002058_342225118462738_5609398727088007764_n.jpg
ORGANIZER;CN="St. Louis County Democrats":MAILTO:stlmodems@gmail.com
GEO:38.614679884333;-90.284517516575
X-APPLE-STRUCTURED-LOCATION;VALUE=URI;X-ADDRESS=Teamsters Hall Local 682 5730 Elizabeth Ave. St. Louis 63110;X-APPLE-RADIUS=500;X-TITLE=5730 Elizabeth Ave.:geo:-90.284517516575,38.614679884333
END:VEVENT
END:VCALENDAR