BEGIN:VCALENDAR
VERSION:2.0
PRODID:-//South County Dems STL - ECPv6.15.20//NONSGML v1.0//EN
CALSCALE:GREGORIAN
METHOD:PUBLISH
X-WR-CALNAME:South County Dems STL
X-ORIGINAL-URL:https://southcountydems.com
X-WR-CALDESC:Events for South County Dems STL
REFRESH-INTERVAL;VALUE=DURATION:PT1H
X-Robots-Tag:noindex
X-PUBLISHED-TTL:PT1H
BEGIN:VTIMEZONE
TZID:America/Chicago
BEGIN:DAYLIGHT
TZOFFSETFROM:-0600
TZOFFSETTO:-0500
TZNAME:CDT
DTSTART:20240310T080000
END:DAYLIGHT
BEGIN:STANDARD
TZOFFSETFROM:-0500
TZOFFSETTO:-0600
TZNAME:CST
DTSTART:20241103T070000
END:STANDARD
BEGIN:DAYLIGHT
TZOFFSETFROM:-0600
TZOFFSETTO:-0500
TZNAME:CDT
DTSTART:20250309T080000
END:DAYLIGHT
BEGIN:STANDARD
TZOFFSETFROM:-0500
TZOFFSETTO:-0600
TZNAME:CST
DTSTART:20251102T070000
END:STANDARD
BEGIN:DAYLIGHT
TZOFFSETFROM:-0600
TZOFFSETTO:-0500
TZNAME:CDT
DTSTART:20260308T080000
END:DAYLIGHT
BEGIN:STANDARD
TZOFFSETFROM:-0500
TZOFFSETTO:-0600
TZNAME:CST
DTSTART:20261101T070000
END:STANDARD
BEGIN:DAYLIGHT
TZOFFSETFROM:-0600
TZOFFSETTO:-0500
TZNAME:CDT
DTSTART:20270314T080000
END:DAYLIGHT
BEGIN:STANDARD
TZOFFSETFROM:-0500
TZOFFSETTO:-0600
TZNAME:CST
DTSTART:20271107T070000
END:STANDARD
BEGIN:DAYLIGHT
TZOFFSETFROM:-0600
TZOFFSETTO:-0500
TZNAME:CDT
DTSTART:20280312T080000
END:DAYLIGHT
BEGIN:STANDARD
TZOFFSETFROM:-0500
TZOFFSETTO:-0600
TZNAME:CST
DTSTART:20281105T070000
END:STANDARD
END:VTIMEZONE
BEGIN:VEVENT
DTSTART;TZID=America/Chicago:20270330T190000
DTEND;TZID=America/Chicago:20270330T200000
DTSTAMP:20260420T143146
CREATED:20250420T132048Z
LAST-MODIFIED:20250619T000910Z
UID:10000191-1806433200-1806436800@southcountydems.com
SUMMARY:Tesson Ferry Dems Monthly Meeting
DESCRIPTION:
URL:https://southcountydems.com/event/tesson-ferry-dems-monthly-meeting/2027-03-30/
LOCATION:La Fiesta\, 7439 S. Lindbergh Blvd\, Saint Louis\, 63129\, United States
CATEGORIES:Informational
ATTACH;FMTTYPE=image/jpeg:https://southcountydems.com/wp-content/uploads/2025/04/tessonferry-horizontal.jpg
END:VEVENT
BEGIN:VEVENT
DTSTART;TZID=America/Chicago:20270223T190000
DTEND;TZID=America/Chicago:20270223T200000
DTSTAMP:20260420T143146
CREATED:20250420T132048Z
LAST-MODIFIED:20250619T000910Z
UID:10000190-1803409200-1803412800@southcountydems.com
SUMMARY:Tesson Ferry Dems Monthly Meeting
DESCRIPTION:
URL:https://southcountydems.com/event/tesson-ferry-dems-monthly-meeting/2027-02-23/
LOCATION:La Fiesta\, 7439 S. Lindbergh Blvd\, Saint Louis\, 63129\, United States
CATEGORIES:Informational
ATTACH;FMTTYPE=image/jpeg:https://southcountydems.com/wp-content/uploads/2025/04/tessonferry-horizontal.jpg
END:VEVENT
BEGIN:VEVENT
DTSTART;TZID=America/Chicago:20270126T190000
DTEND;TZID=America/Chicago:20270126T200000
DTSTAMP:20260420T143146
CREATED:20250420T132048Z
LAST-MODIFIED:20250619T000910Z
UID:10000189-1800990000-1800993600@southcountydems.com
SUMMARY:Tesson Ferry Dems Monthly Meeting
DESCRIPTION:
URL:https://southcountydems.com/event/tesson-ferry-dems-monthly-meeting/2027-01-26/
LOCATION:La Fiesta\, 7439 S. Lindbergh Blvd\, Saint Louis\, 63129\, United States
CATEGORIES:Informational
ATTACH;FMTTYPE=image/jpeg:https://southcountydems.com/wp-content/uploads/2025/04/tessonferry-horizontal.jpg
END:VEVENT
BEGIN:VEVENT
DTSTART;TZID=America/Chicago:20261229T190000
DTEND;TZID=America/Chicago:20261229T200000
DTSTAMP:20260420T143146
CREATED:20250420T132048Z
LAST-MODIFIED:20250619T000910Z
UID:10000237-1798570800-1798574400@southcountydems.com
SUMMARY:Tesson Ferry Dems Monthly Meeting
DESCRIPTION:
URL:https://southcountydems.com/event/tesson-ferry-dems-monthly-meeting/2026-12-29/
LOCATION:La Fiesta\, 7439 S. Lindbergh Blvd\, Saint Louis\, 63129\, United States
CATEGORIES:Informational
ATTACH;FMTTYPE=image/jpeg:https://southcountydems.com/wp-content/uploads/2025/04/tessonferry-horizontal.jpg
END:VEVENT
BEGIN:VEVENT
DTSTART;TZID=America/Chicago:20261124T190000
DTEND;TZID=America/Chicago:20261124T200000
DTSTAMP:20260420T143146
CREATED:20250420T132048Z
LAST-MODIFIED:20250619T000910Z
UID:10000236-1795546800-1795550400@southcountydems.com
SUMMARY:Tesson Ferry Dems Monthly Meeting
DESCRIPTION:
URL:https://southcountydems.com/event/tesson-ferry-dems-monthly-meeting/2026-11-24/
LOCATION:La Fiesta\, 7439 S. Lindbergh Blvd\, Saint Louis\, 63129\, United States
CATEGORIES:Informational
ATTACH;FMTTYPE=image/jpeg:https://southcountydems.com/wp-content/uploads/2025/04/tessonferry-horizontal.jpg
END:VEVENT
BEGIN:VEVENT
DTSTART;TZID=America/Chicago:20261027T190000
DTEND;TZID=America/Chicago:20261027T200000
DTSTAMP:20260420T143146
CREATED:20250420T132048Z
LAST-MODIFIED:20250619T000910Z
UID:10000186-1793127600-1793131200@southcountydems.com
SUMMARY:Tesson Ferry Dems Monthly Meeting
DESCRIPTION:
URL:https://southcountydems.com/event/tesson-ferry-dems-monthly-meeting/2026-10-27/
LOCATION:La Fiesta\, 7439 S. Lindbergh Blvd\, Saint Louis\, 63129\, United States
CATEGORIES:Informational
ATTACH;FMTTYPE=image/jpeg:https://southcountydems.com/wp-content/uploads/2025/04/tessonferry-horizontal.jpg
END:VEVENT
BEGIN:VEVENT
DTSTART;TZID=America/Chicago:20260929T190000
DTEND;TZID=America/Chicago:20260929T200000
DTSTAMP:20260420T143146
CREATED:20250420T132048Z
LAST-MODIFIED:20250619T000910Z
UID:10000185-1790708400-1790712000@southcountydems.com
SUMMARY:Tesson Ferry Dems Monthly Meeting
DESCRIPTION:
URL:https://southcountydems.com/event/tesson-ferry-dems-monthly-meeting/2026-09-29/
LOCATION:La Fiesta\, 7439 S. Lindbergh Blvd\, Saint Louis\, 63129\, United States
CATEGORIES:Informational
ATTACH;FMTTYPE=image/jpeg:https://southcountydems.com/wp-content/uploads/2025/04/tessonferry-horizontal.jpg
END:VEVENT
BEGIN:VEVENT
DTSTART;TZID=America/Chicago:20260825T190000
DTEND;TZID=America/Chicago:20260825T200000
DTSTAMP:20260420T143146
CREATED:20250420T132048Z
LAST-MODIFIED:20250619T000910Z
UID:10000184-1787684400-1787688000@southcountydems.com
SUMMARY:Tesson Ferry Dems Monthly Meeting
DESCRIPTION:
URL:https://southcountydems.com/event/tesson-ferry-dems-monthly-meeting/2026-08-25/
LOCATION:La Fiesta\, 7439 S. Lindbergh Blvd\, Saint Louis\, 63129\, United States
CATEGORIES:Informational
ATTACH;FMTTYPE=image/jpeg:https://southcountydems.com/wp-content/uploads/2025/04/tessonferry-horizontal.jpg
END:VEVENT
BEGIN:VEVENT
DTSTART;TZID=America/Chicago:20260728T190000
DTEND;TZID=America/Chicago:20260728T200000
DTSTAMP:20260420T143146
CREATED:20250420T132048Z
LAST-MODIFIED:20250619T000910Z
UID:10000183-1785265200-1785268800@southcountydems.com
SUMMARY:Tesson Ferry Dems Monthly Meeting
DESCRIPTION:
URL:https://southcountydems.com/event/tesson-ferry-dems-monthly-meeting/2026-07-28/
LOCATION:La Fiesta\, 7439 S. Lindbergh Blvd\, Saint Louis\, 63129\, United States
CATEGORIES:Informational
ATTACH;FMTTYPE=image/jpeg:https://southcountydems.com/wp-content/uploads/2025/04/tessonferry-horizontal.jpg
END:VEVENT
BEGIN:VEVENT
DTSTART;TZID=America/Chicago:20260630T190000
DTEND;TZID=America/Chicago:20260630T200000
DTSTAMP:20260420T143146
CREATED:20250420T132048Z
LAST-MODIFIED:20250619T000910Z
UID:10000182-1782846000-1782849600@southcountydems.com
SUMMARY:Tesson Ferry Dems Monthly Meeting
DESCRIPTION:
URL:https://southcountydems.com/event/tesson-ferry-dems-monthly-meeting/2026-06-30/
LOCATION:La Fiesta\, 7439 S. Lindbergh Blvd\, Saint Louis\, 63129\, United States
CATEGORIES:Informational
ATTACH;FMTTYPE=image/jpeg:https://southcountydems.com/wp-content/uploads/2025/04/tessonferry-horizontal.jpg
END:VEVENT
BEGIN:VEVENT
DTSTART;TZID=America/Chicago:20260526T190000
DTEND;TZID=America/Chicago:20260526T200000
DTSTAMP:20260420T143146
CREATED:20250420T132048Z
LAST-MODIFIED:20250619T000910Z
UID:10000235-1779822000-1779825600@southcountydems.com
SUMMARY:Tesson Ferry Dems Monthly Meeting
DESCRIPTION:
URL:https://southcountydems.com/event/tesson-ferry-dems-monthly-meeting/2026-05-26/
LOCATION:La Fiesta\, 7439 S. Lindbergh Blvd\, Saint Louis\, 63129\, United States
CATEGORIES:Informational
ATTACH;FMTTYPE=image/jpeg:https://southcountydems.com/wp-content/uploads/2025/04/tessonferry-horizontal.jpg
END:VEVENT
BEGIN:VEVENT
DTSTART;TZID=America/Chicago:20260428T190000
DTEND;TZID=America/Chicago:20260428T200000
DTSTAMP:20260420T143146
CREATED:20250420T132048Z
LAST-MODIFIED:20250619T000910Z
UID:10000180-1777402800-1777406400@southcountydems.com
SUMMARY:Tesson Ferry Dems Monthly Meeting
DESCRIPTION:
URL:https://southcountydems.com/event/tesson-ferry-dems-monthly-meeting/2026-04-28/
LOCATION:La Fiesta\, 7439 S. Lindbergh Blvd\, Saint Louis\, 63129\, United States
CATEGORIES:Informational
ATTACH;FMTTYPE=image/jpeg:https://southcountydems.com/wp-content/uploads/2025/04/tessonferry-horizontal.jpg
END:VEVENT
BEGIN:VEVENT
DTSTART;TZID=America/Chicago:20260331T190000
DTEND;TZID=America/Chicago:20260331T200000
DTSTAMP:20260420T143146
CREATED:20250420T132048Z
LAST-MODIFIED:20250619T000910Z
UID:10000179-1774983600-1774987200@southcountydems.com
SUMMARY:Tesson Ferry Dems Monthly Meeting
DESCRIPTION:
URL:https://southcountydems.com/event/tesson-ferry-dems-monthly-meeting/2026-03-31/
LOCATION:La Fiesta\, 7439 S. Lindbergh Blvd\, Saint Louis\, 63129\, United States
CATEGORIES:Informational
ATTACH;FMTTYPE=image/jpeg:https://southcountydems.com/wp-content/uploads/2025/04/tessonferry-horizontal.jpg
END:VEVENT
BEGIN:VEVENT
DTSTART;TZID=America/Chicago:20260224T190000
DTEND;TZID=America/Chicago:20260224T200000
DTSTAMP:20260420T143146
CREATED:20250420T132048Z
LAST-MODIFIED:20250619T000910Z
UID:10000178-1771959600-1771963200@southcountydems.com
SUMMARY:Tesson Ferry Dems Monthly Meeting
DESCRIPTION:
URL:https://southcountydems.com/event/tesson-ferry-dems-monthly-meeting/2026-02-24/
LOCATION:La Fiesta\, 7439 S. Lindbergh Blvd\, Saint Louis\, 63129\, United States
CATEGORIES:Informational
ATTACH;FMTTYPE=image/jpeg:https://southcountydems.com/wp-content/uploads/2025/04/tessonferry-horizontal.jpg
END:VEVENT
BEGIN:VEVENT
DTSTART;TZID=America/Chicago:20260127T190000
DTEND;TZID=America/Chicago:20260127T200000
DTSTAMP:20260420T143146
CREATED:20250420T132048Z
LAST-MODIFIED:20250619T000910Z
UID:10000177-1769540400-1769544000@southcountydems.com
SUMMARY:Tesson Ferry Dems Monthly Meeting
DESCRIPTION:
URL:https://southcountydems.com/event/tesson-ferry-dems-monthly-meeting/2026-01-27/
LOCATION:La Fiesta\, 7439 S. Lindbergh Blvd\, Saint Louis\, 63129\, United States
CATEGORIES:Informational
ATTACH;FMTTYPE=image/jpeg:https://southcountydems.com/wp-content/uploads/2025/04/tessonferry-horizontal.jpg
END:VEVENT
BEGIN:VEVENT
DTSTART;TZID=America/Chicago:20251230T190000
DTEND;TZID=America/Chicago:20251230T200000
DTSTAMP:20260420T143146
CREATED:20250420T132048Z
LAST-MODIFIED:20250619T000910Z
UID:10000234-1767121200-1767124800@southcountydems.com
SUMMARY:Tesson Ferry Dems Monthly Meeting
DESCRIPTION:
URL:https://southcountydems.com/event/tesson-ferry-dems-monthly-meeting/2025-12-30/
LOCATION:La Fiesta\, 7439 S. Lindbergh Blvd\, Saint Louis\, 63129\, United States
CATEGORIES:Informational
ATTACH;FMTTYPE=image/jpeg:https://southcountydems.com/wp-content/uploads/2025/04/tessonferry-horizontal.jpg
END:VEVENT
BEGIN:VEVENT
DTSTART;TZID=America/Chicago:20251125T190000
DTEND;TZID=America/Chicago:20251125T200000
DTSTAMP:20260420T143146
CREATED:20250420T132048Z
LAST-MODIFIED:20250619T000910Z
UID:10000233-1764097200-1764100800@southcountydems.com
SUMMARY:Tesson Ferry Dems Monthly Meeting
DESCRIPTION:
URL:https://southcountydems.com/event/tesson-ferry-dems-monthly-meeting/2025-11-25/
LOCATION:La Fiesta\, 7439 S. Lindbergh Blvd\, Saint Louis\, 63129\, United States
CATEGORIES:Informational
ATTACH;FMTTYPE=image/jpeg:https://southcountydems.com/wp-content/uploads/2025/04/tessonferry-horizontal.jpg
END:VEVENT
BEGIN:VEVENT
DTSTART;TZID=America/Chicago:20251028T190000
DTEND;TZID=America/Chicago:20251028T200000
DTSTAMP:20260420T143146
CREATED:20250420T132048Z
LAST-MODIFIED:20250619T000910Z
UID:10000174-1761678000-1761681600@southcountydems.com
SUMMARY:Tesson Ferry Dems Monthly Meeting
DESCRIPTION:
URL:https://southcountydems.com/event/tesson-ferry-dems-monthly-meeting/2025-10-28/
LOCATION:La Fiesta\, 7439 S. Lindbergh Blvd\, Saint Louis\, 63129\, United States
CATEGORIES:Informational
ATTACH;FMTTYPE=image/jpeg:https://southcountydems.com/wp-content/uploads/2025/04/tessonferry-horizontal.jpg
END:VEVENT
BEGIN:VEVENT
DTSTART;TZID=America/Chicago:20250930T190000
DTEND;TZID=America/Chicago:20250930T200000
DTSTAMP:20260420T143146
CREATED:20250420T132048Z
LAST-MODIFIED:20250619T000910Z
UID:10000173-1759258800-1759262400@southcountydems.com
SUMMARY:Tesson Ferry Dems Monthly Meeting
DESCRIPTION:
URL:https://southcountydems.com/event/tesson-ferry-dems-monthly-meeting/2025-09-30/
LOCATION:La Fiesta\, 7439 S. Lindbergh Blvd\, Saint Louis\, 63129\, United States
CATEGORIES:Informational
ATTACH;FMTTYPE=image/jpeg:https://southcountydems.com/wp-content/uploads/2025/04/tessonferry-horizontal.jpg
END:VEVENT
BEGIN:VEVENT
DTSTART;TZID=America/Chicago:20250930T173000
DTEND;TZID=America/Chicago:20250930T193000
DTSTAMP:20260420T143146
CREATED:20250925T002731Z
LAST-MODIFIED:20250925T002731Z
UID:10000247-1759253400-1759260600@southcountydems.com
SUMMARY:Democrat Fall Fundraiser at 360 Westport
DESCRIPTION:Join the St. Louis County Democrats for a fall fundraiser at 360 Westport for drinks and snacks and conversation. Thanks to our hosts at LHM\, we will gather with candidates and supporters and kick off the election season! \nSeptember 30\, 2025\, 5:30 p.m. – 7:30 p.m. CDT \n111 W Port Plaza Dr suite 1200\, St. Louis\, MO 63146 \nhttps://secure.actblue.com/donate/fallfund2025
URL:https://southcountydems.com/event/democrat-fall-fundraiser-at-360-westport/
LOCATION:360 Westport\, 111 W Port Plaza Dr suite 1200\, St. Louis\, MO\, 63146\, United States
CATEGORIES:Fundraiser
ATTACH;FMTTYPE=image/jpeg:https://southcountydems.com/wp-content/uploads/2025/09/552867376_1229736232521642_910520282276935243_n.jpg
END:VEVENT
BEGIN:VEVENT
DTSTART;TZID=America/Chicago:20250826T190000
DTEND;TZID=America/Chicago:20250826T200000
DTSTAMP:20260420T143146
CREATED:20250420T132048Z
LAST-MODIFIED:20250619T000910Z
UID:10000172-1756234800-1756238400@southcountydems.com
SUMMARY:Tesson Ferry Dems Monthly Meeting
DESCRIPTION:
URL:https://southcountydems.com/event/tesson-ferry-dems-monthly-meeting/2025-08-26/
LOCATION:La Fiesta\, 7439 S. Lindbergh Blvd\, Saint Louis\, 63129\, United States
CATEGORIES:Informational
ATTACH;FMTTYPE=image/jpeg:https://southcountydems.com/wp-content/uploads/2025/04/tessonferry-horizontal.jpg
END:VEVENT
BEGIN:VEVENT
DTSTART;TZID=America/Chicago:20250729T190000
DTEND;TZID=America/Chicago:20250729T200000
DTSTAMP:20260420T143146
CREATED:20250420T132048Z
LAST-MODIFIED:20250619T000910Z
UID:10000171-1753815600-1753819200@southcountydems.com
SUMMARY:Tesson Ferry Dems Monthly Meeting
DESCRIPTION:
URL:https://southcountydems.com/event/tesson-ferry-dems-monthly-meeting/2025-07-29/
LOCATION:La Fiesta\, 7439 S. Lindbergh Blvd\, Saint Louis\, 63129\, United States
CATEGORIES:Informational
ATTACH;FMTTYPE=image/jpeg:https://southcountydems.com/wp-content/uploads/2025/04/tessonferry-horizontal.jpg
END:VEVENT
BEGIN:VEVENT
DTSTART;TZID=America/Chicago:20250625T190000
DTEND;TZID=America/Chicago:20250625T210000
DTSTAMP:20260420T143146
CREATED:20250621T185026Z
LAST-MODIFIED:20250621T185026Z
UID:10000246-1750878000-1750885200@southcountydems.com
SUMMARY:End of Session Town Hall
DESCRIPTION:Join us on Wednesday\, June 25 \, for a conversation with your state legislators. Sen. Karla May\, Sen. Tracy McCreery\, Rep. Ray Reed\, Rep. Michael Burton\, and Rep. Bridget Walsh Moore will discuss what happened in the 2025 legislative session—and what it means for you. \nWednesday\, June 25\, 2025 at 7:00 pm\nAffton Fire Protection District  Station 1*\n9282 Gravois Rd.\nSt. Louis\, MO 63123\n\n*Park and enter in the rear of the building.\n\nAction Item: Bring non-perishable food items for tornado recovery efforts.
URL:https://southcountydems.com/event/end-of-session-town-hall-2/
LOCATION:Affton Fire District Admin House #1\, 9282 Gravois Rd\, Affton\, 63123
CATEGORIES:Informational
ATTACH;FMTTYPE=image/jpeg:https://southcountydems.com/wp-content/uploads/2025/06/TownHall2025.jpg
END:VEVENT
BEGIN:VEVENT
DTSTART;TZID=America/Chicago:20250624T190000
DTEND;TZID=America/Chicago:20250624T200000
DTSTAMP:20260420T143146
CREATED:20250420T132048Z
LAST-MODIFIED:20250619T000910Z
UID:10000170-1750791600-1750795200@southcountydems.com
SUMMARY:Tesson Ferry Dems Monthly Meeting
DESCRIPTION:
URL:https://southcountydems.com/event/tesson-ferry-dems-monthly-meeting/2025-06-24/
LOCATION:La Fiesta\, 7439 S. Lindbergh Blvd\, Saint Louis\, 63129\, United States
CATEGORIES:Informational
ATTACH;FMTTYPE=image/jpeg:https://southcountydems.com/wp-content/uploads/2025/04/tessonferry-horizontal.jpg
END:VEVENT
BEGIN:VEVENT
DTSTART;TZID=America/Chicago:20250527T190000
DTEND;TZID=America/Chicago:20250527T200000
DTSTAMP:20260420T143146
CREATED:20250420T132048Z
LAST-MODIFIED:20250619T000910Z
UID:10000232-1748372400-1748376000@southcountydems.com
SUMMARY:Tesson Ferry Dems Monthly Meeting
DESCRIPTION:
URL:https://southcountydems.com/event/tesson-ferry-dems-monthly-meeting/2025-05-27/
LOCATION:La Fiesta\, 7439 S. Lindbergh Blvd\, Saint Louis\, 63129\, United States
CATEGORIES:Informational
ATTACH;FMTTYPE=image/jpeg:https://southcountydems.com/wp-content/uploads/2025/04/tessonferry-horizontal.jpg
END:VEVENT
BEGIN:VEVENT
DTSTART;TZID=America/Chicago:20250501T190000
DTEND;TZID=America/Chicago:20250501T200000
DTSTAMP:20260420T143146
CREATED:20250420T110013Z
LAST-MODIFIED:20250420T110102Z
UID:10000167-1746126000-1746129600@southcountydems.com
SUMMARY:Lemay/Concord Democratic Club May Meeting - Spencer Toder
DESCRIPTION:You may remember Toder from his 2022 run for U.S. Senate. He did not win the primary\, but he learned a lot! And since then\, Toder has been creating new and innovative ways to help future candidates. Please join us and learn what he\, and other noteworthy Missourians\, are creating by thinking outside the box. And see how you can get involved! 
URL:https://southcountydems.com/event/lemay-concord-democratic-club-may-meeting-spencer-toder/
LOCATION:Affton Fire District Admin House #1\, 9282 Gravois Rd\, Affton\, 63123
CATEGORIES:Informational
ATTACH;FMTTYPE=image/jpeg:https://southcountydems.com/wp-content/uploads/2025/04/image-4.jpg
END:VEVENT
BEGIN:VEVENT
DTSTART;TZID=America/Chicago:20250429T190000
DTEND;TZID=America/Chicago:20250429T200000
DTSTAMP:20260420T143146
CREATED:20250420T132048Z
LAST-MODIFIED:20250619T000910Z
UID:10000168-1745953200-1745956800@southcountydems.com
SUMMARY:Tesson Ferry Dems Monthly Meeting
DESCRIPTION:
URL:https://southcountydems.com/event/tesson-ferry-dems-monthly-meeting/2025-04-29/
LOCATION:La Fiesta\, 7439 S. Lindbergh Blvd\, Saint Louis\, 63129\, United States
CATEGORIES:Informational
ATTACH;FMTTYPE=image/jpeg:https://southcountydems.com/wp-content/uploads/2025/04/tessonferry-horizontal.jpg
END:VEVENT
BEGIN:VEVENT
DTSTART;VALUE=DATE:20250426
DTEND;VALUE=DATE:20250427
DTSTAMP:20260420T143146
CREATED:20250311T184801Z
LAST-MODIFIED:20250424T190557Z
UID:10000158-1745625600-1745711999@southcountydems.com
SUMMARY:South County Cleanup Day!
DESCRIPTION:Join Your Neighbors to Clean Up for a Brighter Tomorrow!\nOn Sat. 4/26 we are asking all of our South County neighbors and businesses to take a little time and pick up any trash around where they live or work.  We all must come together to keep our community beautiful. \nWe will also be holding trash pickup brigades along Telegraph Rd from Forder Rd up to 255.  If you would like to join the brigade meet us at the parking lot in front of Blarney Stone at 10 AM.  We will have trash bags and safety vests available but please bring gloves. [Litter Pickup Safety Checklist] \nSpecial thanks to all of our partners joining in the clean up:\n\nMoDot Volunteer Litter Pickup Program\nCafe Fleur De Lis\nRollup Ice Cream & Eatery\nSubway on Telegraph\nValvoline Instant Oil Change (2711 Telegraph Rd.)\nBinder Animal Hospital\n\nIf you would also like to be included as a partner and help out with the clean up please contact: \nWilliam Oetting will@southcountydems.com 341-620-4265
URL:https://southcountydems.com/event/south-county-cleanup-day/
LOCATION:MO
CATEGORIES:Service
ATTACH;FMTTYPE=image/jpeg:https://southcountydems.com/wp-content/uploads/2025/03/South-County-Cleanup.jpg
ORGANIZER;CN="South County Dems":MAILTO:info@southcountydems.com
END:VEVENT
BEGIN:VEVENT
DTSTART;TZID=America/Chicago:20250328T173000
DTEND;TZID=America/Chicago:20250328T193000
DTSTAMP:20260420T143146
CREATED:20250324T132614Z
LAST-MODIFIED:20250324T132614Z
UID:10000161-1743183000-1743190200@southcountydems.com
SUMMARY:Spaghetti Dinner with Deb Lavender
DESCRIPTION:Swap the fish fry for a spaghetti dinner hosted by Deb Lavender on Friday\, March 28\, 2025 at 5:30 pm. RSVP today! See flyer for details.
URL:https://southcountydems.com/event/spaghetti-dinner-with-deb-lavender/
LOCATION:CWA Hall\, 2258 Grissom Dr\, Saint Louis\, MO\, 63146\, United States
CATEGORIES:Social
ATTACH;FMTTYPE=image/jpeg:https://southcountydems.com/wp-content/uploads/2025/03/image6.jpg
ORGANIZER;CN="Deb Lavender":MAILTO:deblavender5@gmail.com
END:VEVENT
BEGIN:VEVENT
DTSTART;TZID=America/Chicago:20250327T173000
DTEND;TZID=America/Chicago:20250327T190000
DTSTAMP:20260420T143146
CREATED:20250318T005205Z
LAST-MODIFIED:20250318T005205Z
UID:10000159-1743096600-1743102000@southcountydems.com
SUMMARY:Cheers to Community
DESCRIPTION:Sometimes taking action looks like showing up to connect with like-minded people and build community. Pop by and say hello! \nWe’ll meet in the Canteen\, BUT if the weather is nice\, find us in the Garden. Bring a friend! Food trucks will be on site.
URL:https://southcountydems.com/event/cheers-to-community/
LOCATION:9 Mile Garden\, 9375 Gravois Road\, Affton\, MO\, 63123\, United States
CATEGORIES:Social
ATTACH;FMTTYPE=image/jpeg:https://southcountydems.com/wp-content/uploads/2025/03/CheersCommunity.jpg
ORGANIZER;CN="South County Dems":MAILTO:info@southcountydems.com
END:VEVENT
END:VCALENDAR