BEGIN:VCALENDAR
VERSION:2.0
PRODID:-//South County Dems STL - ECPv6.15.20//NONSGML v1.0//EN
CALSCALE:GREGORIAN
METHOD:PUBLISH
X-WR-CALNAME:South County Dems STL
X-ORIGINAL-URL:https://southcountydems.com
X-WR-CALDESC:Events for South County Dems STL
REFRESH-INTERVAL;VALUE=DURATION:PT1H
X-Robots-Tag:noindex
X-PUBLISHED-TTL:PT1H
BEGIN:VTIMEZONE
TZID:America/Chicago
BEGIN:DAYLIGHT
TZOFFSETFROM:-0600
TZOFFSETTO:-0500
TZNAME:CDT
DTSTART:20230312T080000
END:DAYLIGHT
BEGIN:STANDARD
TZOFFSETFROM:-0500
TZOFFSETTO:-0600
TZNAME:CST
DTSTART:20231105T070000
END:STANDARD
BEGIN:DAYLIGHT
TZOFFSETFROM:-0600
TZOFFSETTO:-0500
TZNAME:CDT
DTSTART:20240310T080000
END:DAYLIGHT
BEGIN:STANDARD
TZOFFSETFROM:-0500
TZOFFSETTO:-0600
TZNAME:CST
DTSTART:20241103T070000
END:STANDARD
BEGIN:DAYLIGHT
TZOFFSETFROM:-0600
TZOFFSETTO:-0500
TZNAME:CDT
DTSTART:20250309T080000
END:DAYLIGHT
BEGIN:STANDARD
TZOFFSETFROM:-0500
TZOFFSETTO:-0600
TZNAME:CST
DTSTART:20251102T070000
END:STANDARD
END:VTIMEZONE
BEGIN:VEVENT
DTSTART;TZID=America/Chicago:20240905T180000
DTEND;TZID=America/Chicago:20240905T200000
DTSTAMP:20260425T212840
CREATED:20240828T175430Z
LAST-MODIFIED:20240828T175430Z
UID:10000118-1725559200-1725566400@southcountydems.com
SUMMARY:Deb Langland End of Summer FUNdRaiser
DESCRIPTION:Come join us on Thursday\, Sept. 5th for a FUNdraiser for Deb Langland\, running as Democrat for MO State Rep 95.Details: From 6:00 pm – 8:00 pm\, at The Realty Executives of St. Louis\, 12016 Tesson Ferry Rd.\, Suite A.Meet Deb and her supporters. Enjoy refreshments and appetizers. Have FUN and Get Ready to WIN!!! RSVP 314-433-5915 or email deb@deb4mo95\nCan’t join us? Donate to Deb’s campaign! https://secure.actblue.com/…/committee-to-elect-deborah…
URL:https://southcountydems.com/event/deb-langland-end-of-summer-fundraiser/
LOCATION:Realty Executives of Saint Louis\, 12016 Tesson Ferry Rd\, Saint Louis\, MO\, 63128\, United States
CATEGORIES:Fundraiser
ATTACH;FMTTYPE=image/jpeg:https://southcountydems.com/wp-content/uploads/2024/08/457062591_122164565138184238_1178896948163539862_n.jpg
END:VEVENT
BEGIN:VEVENT
DTSTART;TZID=America/Chicago:20240912T170000
DTEND;TZID=America/Chicago:20240912T190000
DTSTAMP:20260425T212840
CREATED:20240815T123507Z
LAST-MODIFIED:20240815T123709Z
UID:10000053-1726160400-1726167600@southcountydems.com
SUMMARY:Ribs\, White & Blue: Meat & Greet
DESCRIPTION:Join us for a family-friendly\, rib cook-off featuring south county democratic candidates.  Who will you elect to be your rib representative? \nDonate at https://secure.actblue.com/donate/south-county-democrats to support our office and actions to flip seats in South St. Louis County.
URL:https://southcountydems.com/event/ribs-white-blue-meat-greet/
LOCATION:South County Office\, 35 Grasso Plaza\, Saint Louis\, MO\, 63126\, United States
CATEGORIES:Fundraiser
ATTACH;FMTTYPE=image/jpeg:https://southcountydems.com/wp-content/uploads/2024/08/454737771_912613074246075_7950324149927251924_n.jpg
ORGANIZER;CN="St. Louis County Democrats":MAILTO:stlmodems@gmail.com
END:VEVENT
BEGIN:VEVENT
DTSTART;TZID=America/Chicago:20240914T100000
DTEND;TZID=America/Chicago:20240914T120000
DTSTAMP:20260425T212840
CREATED:20240726T113545Z
LAST-MODIFIED:20240726T113545Z
UID:10000049-1726308000-1726315200@southcountydems.com
SUMMARY:Second Saturdays with SoCo Dems
DESCRIPTION:Join us on Second Saturdays to support local Democratic candidates in competitive races to help flip seats blue!
URL:https://southcountydems.com/event/second-saturdays-with-soco-dems/2024-09-14/
LOCATION:South County Office\, 35 Grasso Plaza\, Saint Louis\, MO\, 63126\, United States
CATEGORIES:Canvass
ATTACH;FMTTYPE=image/jpeg:https://southcountydems.com/wp-content/uploads/2024/07/att.Z2SWuXSWcThU7jTAITD6fiUhqfK0as204sel_OsTvdM.jpg
ORGANIZER;CN="South County Dems":MAILTO:info@southcountydems.com
END:VEVENT
BEGIN:VEVENT
DTSTART;TZID=America/Chicago:20240919T180000
DTEND;TZID=America/Chicago:20240919T193000
DTSTAMP:20260425T212840
CREATED:20240904T154922Z
LAST-MODIFIED:20240904T154955Z
UID:10000121-1726768800-1726774200@southcountydems.com
SUMMARY:Fundraiser in support of Leslie Derrington for State Representative
DESCRIPTION:Join hosts Kim and Tim Powderly at their home on September 19th for a fundraiser in support of Leslie Derrington. \nWhen: Thursday\, Sept. 19th at 6pm \nWhere: 10840 Leebur Drive\, Saint Louis\, MO 63128 \nSuggested donations \nSupporter Level: $250.00 \nFriend Level: $50.00 \nPlease make a donation to complete your RSVP.  https://secure.actblue.com/donate/ldsept19 \nChecks can also be made payable to: \nFriends of Leslie Derrington \nPO Box 29222\, Saint Louis\, MO\, 63126
URL:https://southcountydems.com/event/fundraiser-in-support-of-leslie-derrington-for-state-representative/
LOCATION:Kim and Tim Powderly\, 10840 Leebur Drive\, Saint Louis\, MO\, 63128\, United States
CATEGORIES:Fundraiser
ATTACH;FMTTYPE=image/jpeg:https://southcountydems.com/wp-content/uploads/2024/09/att.dgc5vFVy71DJv0bwNDP-Do8jUOBJA9vobmI41H468eM.jpg
ORGANIZER;CN="Leslie Derrington":MAILTO:friends@lesliederrington4mo.com
END:VEVENT
BEGIN:VEVENT
DTSTART;TZID=America/Chicago:20240921T090000
DTEND;TZID=America/Chicago:20240921T120000
DTSTAMP:20260425T212840
CREATED:20240828T175738Z
LAST-MODIFIED:20240828T175738Z
UID:10000119-1726909200-1726920000@southcountydems.com
SUMMARY:Dems on Parade
DESCRIPTION:Join us for the annual Affton-Lemay Community Parade in September! Come support and walk beside our South County candidates as they shake hands and give out candy along the route. RSVP: https://www.mobilize.us/stlouiscountydemocr…/event/633204/\n***LOCATION AND TIME: Please read carefully.***Park behind Bayless Elementary School (4531 Weber Road) and ride the shuttle bus to the staging area at Affton High School.\nParticipant Shuttle Bus Schedule8:00-9:15 am: Bayless Elementary School  Affton High SchoolStreet reopening-12:30 pm: Affton High School  Bayless Elementary School\nThe parade kicks off at 10:00 am.\nTheme: Totally Rad: Back to the 80sJudges will award winners for participants including Theme of Parade\, Judge’s Choice\, Most Original Entry\, Best Church Entry\, and Best School Entry\nParade Route: Affton High School\, traveling south on Mackenzie\, then proceeding down Gravois Road to Weber Road\, and ending at Bayless Elementary School
URL:https://southcountydems.com/event/dems-on-parade/
LOCATION:Affton-Lemay Community Parade\, 4531 Weber Rd\, Saint Louis\, MO\, 63123\, United States
CATEGORIES:Social
ATTACH;FMTTYPE=image/jpeg:https://southcountydems.com/wp-content/uploads/2024/08/457331468_913597943924759_6847933390703112864_n.jpg
ORGANIZER;CN="Senator Doug Beck":MAILTO:Doug.Beck@senate.mo.gov
END:VEVENT
END:VCALENDAR