BEGIN:VCALENDAR
VERSION:2.0
PRODID:-//South County Dems STL - ECPv6.15.20//NONSGML v1.0//EN
CALSCALE:GREGORIAN
METHOD:PUBLISH
X-WR-CALNAME:South County Dems STL
X-ORIGINAL-URL:https://southcountydems.com
X-WR-CALDESC:Events for South County Dems STL
REFRESH-INTERVAL;VALUE=DURATION:PT1H
X-Robots-Tag:noindex
X-PUBLISHED-TTL:PT1H
BEGIN:VTIMEZONE
TZID:America/Chicago
BEGIN:DAYLIGHT
TZOFFSETFROM:-0600
TZOFFSETTO:-0500
TZNAME:CDT
DTSTART:20230312T080000
END:DAYLIGHT
BEGIN:STANDARD
TZOFFSETFROM:-0500
TZOFFSETTO:-0600
TZNAME:CST
DTSTART:20231105T070000
END:STANDARD
BEGIN:DAYLIGHT
TZOFFSETFROM:-0600
TZOFFSETTO:-0500
TZNAME:CDT
DTSTART:20240310T080000
END:DAYLIGHT
BEGIN:STANDARD
TZOFFSETFROM:-0500
TZOFFSETTO:-0600
TZNAME:CST
DTSTART:20241103T070000
END:STANDARD
BEGIN:DAYLIGHT
TZOFFSETFROM:-0600
TZOFFSETTO:-0500
TZNAME:CDT
DTSTART:20250309T080000
END:DAYLIGHT
BEGIN:STANDARD
TZOFFSETFROM:-0500
TZOFFSETTO:-0600
TZNAME:CST
DTSTART:20251102T070000
END:STANDARD
END:VTIMEZONE
BEGIN:VEVENT
DTSTART;TZID=America/Chicago:20241103T130000
DTEND;TZID=America/Chicago:20241103T150000
DTSTAMP:20260425T195409
CREATED:20241025T220306Z
LAST-MODIFIED:20241102T122642Z
UID:10000148-1730638800-1730646000@southcountydems.com
SUMMARY:Knock Doors with Kevin Schartner
DESCRIPTION:Help us spread the word about Kevin Schartner by knocking doors with our team across South County! Bring your walking shoes\, water bottle\, and a charged cell phone. Meet us at the St. Louis County Democrats South County Office for a canvass launch. If you are a pro and want to grab a list and head out you are welcome to do so. If this is your first time or you need a refresher\, don’t worry we will be happy to help walking you through setting up MiniVAN and talking through best practices.\nLet us know you’re coming here: https://secure.ngpvan.com/p/H-PTUgUCPkum38Yhwd9Kng2\n\n\n Greet voters at polling places on Tuesday! For details and to sign up\, click the link.\nKevin Schartner http://mobilize.us/stlouiscountydemocraticc…/event/735357/
URL:https://southcountydems.com/event/knock-doors-with-kevin-schartner/2024-11-03/
LOCATION:South County Office\, 35 Grasso Plaza\, Saint Louis\, MO\, 63126\, United States
CATEGORIES:Canvass
ATTACH;FMTTYPE=image/png:https://southcountydems.com/wp-content/uploads/2024/10/image7.png
ORGANIZER;CN="Kevin Schartner":MAILTO:campaign@KevinForCountyCouncil.com
END:VEVENT
BEGIN:VEVENT
DTSTART;TZID=America/Chicago:20241103T140000
DTEND;TZID=America/Chicago:20241103T160000
DTSTAMP:20260425T195409
CREATED:20241025T215825Z
LAST-MODIFIED:20241102T122600Z
UID:10000144-1730642400-1730649600@southcountydems.com
SUMMARY:Knock Doors for Kyle Kerns
DESCRIPTION:Knock Doors with Kyle at Sylvan Spring Park parking lot at the corner of Boundary and Sheridan \n Greet voters at polling places on Tuesday! For details and to sign up\, click the link.\nKyle Kerns http://mobilize.us/stlouiscountydemocraticc…/event/735357/
URL:https://southcountydems.com/event/knock-doors-for-kyle-kerns/2024-11-03/
LOCATION:MO
CATEGORIES:Canvass
ATTACH;FMTTYPE=image/png:https://southcountydems.com/wp-content/uploads/2024/10/image7.png
ORGANIZER;CN="Kyle Kerns":MAILTO:kyle@KernsForMO.com
END:VEVENT
END:VCALENDAR