BEGIN:VCALENDAR
VERSION:2.0
PRODID:-//South County Dems STL - ECPv6.15.20//NONSGML v1.0//EN
CALSCALE:GREGORIAN
METHOD:PUBLISH
X-WR-CALNAME:South County Dems STL
X-ORIGINAL-URL:https://southcountydems.com
X-WR-CALDESC:Events for South County Dems STL
REFRESH-INTERVAL;VALUE=DURATION:PT1H
X-Robots-Tag:noindex
X-PUBLISHED-TTL:PT1H
BEGIN:VTIMEZONE
TZID:America/Chicago
BEGIN:DAYLIGHT
TZOFFSETFROM:-0600
TZOFFSETTO:-0500
TZNAME:CDT
DTSTART:20230312T080000
END:DAYLIGHT
BEGIN:STANDARD
TZOFFSETFROM:-0500
TZOFFSETTO:-0600
TZNAME:CST
DTSTART:20231105T070000
END:STANDARD
BEGIN:DAYLIGHT
TZOFFSETFROM:-0600
TZOFFSETTO:-0500
TZNAME:CDT
DTSTART:20240310T080000
END:DAYLIGHT
BEGIN:STANDARD
TZOFFSETFROM:-0500
TZOFFSETTO:-0600
TZNAME:CST
DTSTART:20241103T070000
END:STANDARD
BEGIN:DAYLIGHT
TZOFFSETFROM:-0600
TZOFFSETTO:-0500
TZNAME:CDT
DTSTART:20250309T080000
END:DAYLIGHT
BEGIN:STANDARD
TZOFFSETFROM:-0500
TZOFFSETTO:-0600
TZNAME:CST
DTSTART:20251102T070000
END:STANDARD
END:VTIMEZONE
BEGIN:VEVENT
DTSTART;TZID=America/Chicago:20240801T183000
DTEND;TZID=America/Chicago:20240801T203000
DTSTAMP:20260421T073157
CREATED:20240728T004529Z
LAST-MODIFIED:20240728T004529Z
UID:10000052-1722537000-1722544200@southcountydems.com
SUMMARY:Concord/Lemay/Any and Everyone - Monthly Meeting
DESCRIPTION:
URL:https://southcountydems.com/event/concord-lemay-any-and-everyone-monthly-meeting/
LOCATION:South County Office\, 35 Grasso Plaza\, Saint Louis\, MO\, 63126\, United States
CATEGORIES:Social
ATTACH;FMTTYPE=image/jpeg:https://southcountydems.com/wp-content/uploads/2024/07/att.4m-_9Bji8s82gPv1jF5aF7TOUQTR1hid40H_hItwuFA.jpg
END:VEVENT
BEGIN:VEVENT
DTSTART;TZID=America/Chicago:20240606T190000
DTEND;TZID=America/Chicago:20240606T210000
DTSTAMP:20260421T073157
CREATED:20240527T121840Z
LAST-MODIFIED:20240527T121840Z
UID:10000040-1717700400-1717707600@southcountydems.com
SUMMARY:June Speaker Meeting
DESCRIPTION:Join us!Freddy Doss will help you learn and understand how President Biden’s “Middle Out” economic strategy will win progressive economic dominance for generations.Meet candidates Chuck Summers and Ray Hartmann – both vying to be the Democratic candidate to unseat Ann Wagner.
URL:https://southcountydems.com/event/june-speaker-meeting/
LOCATION:Affton Fire District Admin House #1\, 9282 Gravois Rd\, Affton\, 63123
ATTACH;FMTTYPE=image/jpeg:https://southcountydems.com/wp-content/uploads/2024/05/442509326_756754573294575_8813016047301392104_n.jpg
END:VEVENT
BEGIN:VEVENT
DTSTART;TZID=America/Chicago:20240518T180000
DTEND;TZID=America/Chicago:20240518T210000
DTSTAMP:20260421T073157
CREATED:20240326T131721Z
LAST-MODIFIED:20240508T184916Z
UID:10000027-1716055200-1716066000@southcountydems.com
SUMMARY:Concord Democratic Club Trivia Night
DESCRIPTION:CHANGE OF VENUE!! ONLY 2 BLOCKS AWAY!!! \nGlaziers Union Hall\n5916 Wilson Ave.\nSt. Louis\, MO 63110 \nJoin us for an evening of fund and help support the Democratic cause to ensure a successful election season.\nTables up to 8/$30 per person or $240 a table\nEarly bird special – $200 a table if paid by May 6th\nRound Sponsor $100\nDoors open 6pm\nGame begins at 7pm\nBeer & soda provided
URL:https://southcountydems.com/event/concord-democratic-club-trivia-night/
LOCATION:Glaziers Union Hall\, 5916 Wilson Ave.\, Saint Louis\, 63110\, United States
CATEGORIES:Trivia Night
ATTACH;FMTTYPE=image/jpeg:https://southcountydems.com/wp-content/uploads/2024/03/434142562_721963643440335_7862254013586398238_n.jpg
END:VEVENT
BEGIN:VEVENT
DTSTART;TZID=America/Chicago:20240502T190000
DTEND;TZID=America/Chicago:20240502T190000
DTSTAMP:20260421T073157
CREATED:20240418T195510Z
LAST-MODIFIED:20240418T195510Z
UID:10000033-1714676400-1714676400@southcountydems.com
SUMMARY:May Meeting - How to Recycle
DESCRIPTION:Want to learn about the current world of recycling? Join us! Lilly will share information that will make us smarter recyclers\, thereby minimizing the costly action of ‘wishcycling.’ Remember\, ‘when in doubt\, throw it out’ (or find out). \nNote: Prior to the meeting we suggest you download the Recycle Coach app to your phone. It is available from both Google Play or the App Store.
URL:https://southcountydems.com/event/may-meeting-how-to-recycle/
LOCATION:Affton Fire District Admin House #1\, 9282 Gravois Rd\, Affton\, 63123
ATTACH;FMTTYPE=image/jpeg:https://southcountydems.com/wp-content/uploads/2024/04/437852046_735709025399130_3187064090243046749_n.jpg
END:VEVENT
END:VCALENDAR