BEGIN:VCALENDAR
VERSION:2.0
PRODID:-//South County Dems STL - ECPv6.15.20//NONSGML v1.0//EN
CALSCALE:GREGORIAN
METHOD:PUBLISH
X-WR-CALNAME:South County Dems STL
X-ORIGINAL-URL:https://southcountydems.com
X-WR-CALDESC:Events for South County Dems STL
REFRESH-INTERVAL;VALUE=DURATION:PT1H
X-Robots-Tag:noindex
X-PUBLISHED-TTL:PT1H
BEGIN:VTIMEZONE
TZID:America/Chicago
BEGIN:DAYLIGHT
TZOFFSETFROM:-0600
TZOFFSETTO:-0500
TZNAME:CDT
DTSTART:20230312T080000
END:DAYLIGHT
BEGIN:STANDARD
TZOFFSETFROM:-0500
TZOFFSETTO:-0600
TZNAME:CST
DTSTART:20231105T070000
END:STANDARD
BEGIN:DAYLIGHT
TZOFFSETFROM:-0600
TZOFFSETTO:-0500
TZNAME:CDT
DTSTART:20240310T080000
END:DAYLIGHT
BEGIN:STANDARD
TZOFFSETFROM:-0500
TZOFFSETTO:-0600
TZNAME:CST
DTSTART:20241103T070000
END:STANDARD
BEGIN:DAYLIGHT
TZOFFSETFROM:-0600
TZOFFSETTO:-0500
TZNAME:CDT
DTSTART:20250309T080000
END:DAYLIGHT
BEGIN:STANDARD
TZOFFSETFROM:-0500
TZOFFSETTO:-0600
TZNAME:CST
DTSTART:20251102T070000
END:STANDARD
END:VTIMEZONE
BEGIN:VEVENT
DTSTART;TZID=America/Chicago:20241103T130000
DTEND;TZID=America/Chicago:20241103T150000
DTSTAMP:20260421T061427
CREATED:20241025T220306Z
LAST-MODIFIED:20241102T122642Z
UID:10000148-1730638800-1730646000@southcountydems.com
SUMMARY:Knock Doors with Kevin Schartner
DESCRIPTION:Help us spread the word about Kevin Schartner by knocking doors with our team across South County! Bring your walking shoes\, water bottle\, and a charged cell phone. Meet us at the St. Louis County Democrats South County Office for a canvass launch. If you are a pro and want to grab a list and head out you are welcome to do so. If this is your first time or you need a refresher\, don’t worry we will be happy to help walking you through setting up MiniVAN and talking through best practices.\nLet us know you’re coming here: https://secure.ngpvan.com/p/H-PTUgUCPkum38Yhwd9Kng2\n\n\n Greet voters at polling places on Tuesday! For details and to sign up\, click the link.\nKevin Schartner http://mobilize.us/stlouiscountydemocraticc…/event/735357/
URL:https://southcountydems.com/event/knock-doors-with-kevin-schartner/2024-11-03/
LOCATION:South County Office\, 35 Grasso Plaza\, Saint Louis\, MO\, 63126\, United States
CATEGORIES:Canvass
ATTACH;FMTTYPE=image/png:https://southcountydems.com/wp-content/uploads/2024/10/image7.png
ORGANIZER;CN="Kevin Schartner":MAILTO:campaign@KevinForCountyCouncil.com
END:VEVENT
BEGIN:VEVENT
DTSTART;TZID=America/Chicago:20241102T100000
DTEND;TZID=America/Chicago:20241102T150000
DTSTAMP:20260421T061427
CREATED:20241025T220306Z
LAST-MODIFIED:20241102T122642Z
UID:10000147-1730541600-1730559600@southcountydems.com
SUMMARY:Knock Doors with Kevin Schartner
DESCRIPTION:Help us spread the word about Kevin Schartner by knocking doors with our team across South County! Bring your walking shoes\, water bottle\, and a charged cell phone. Meet us at the St. Louis County Democrats South County Office for a canvass launch. If you are a pro and want to grab a list and head out you are welcome to do so. If this is your first time or you need a refresher\, don’t worry we will be happy to help walking you through setting up MiniVAN and talking through best practices.\nLet us know you’re coming here: https://secure.ngpvan.com/p/H-PTUgUCPkum38Yhwd9Kng2\n\n\n Greet voters at polling places on Tuesday! For details and to sign up\, click the link.\nKevin Schartner http://mobilize.us/stlouiscountydemocraticc…/event/735357/
URL:https://southcountydems.com/event/knock-doors-with-kevin-schartner/2024-11-02/
LOCATION:South County Office\, 35 Grasso Plaza\, Saint Louis\, MO\, 63126\, United States
CATEGORIES:Canvass
ATTACH;FMTTYPE=image/png:https://southcountydems.com/wp-content/uploads/2024/10/image7.png
ORGANIZER;CN="Kevin Schartner":MAILTO:campaign@KevinForCountyCouncil.com
END:VEVENT
BEGIN:VEVENT
DTSTART;TZID=America/Chicago:20241027T130000
DTEND;TZID=America/Chicago:20241027T150000
DTSTAMP:20260421T061427
CREATED:20241025T220306Z
LAST-MODIFIED:20241102T122642Z
UID:10000146-1730034000-1730041200@southcountydems.com
SUMMARY:Knock Doors with Kevin Schartner
DESCRIPTION:Help us spread the word about Kevin Schartner by knocking doors with our team across South County! Bring your walking shoes\, water bottle\, and a charged cell phone. Meet us at the St. Louis County Democrats South County Office for a canvass launch. If you are a pro and want to grab a list and head out you are welcome to do so. If this is your first time or you need a refresher\, don’t worry we will be happy to help walking you through setting up MiniVAN and talking through best practices.\nLet us know you’re coming here: https://secure.ngpvan.com/p/H-PTUgUCPkum38Yhwd9Kng2\n\n\n Greet voters at polling places on Tuesday! For details and to sign up\, click the link.\nKevin Schartner http://mobilize.us/stlouiscountydemocraticc…/event/735357/
URL:https://southcountydems.com/event/knock-doors-with-kevin-schartner/2024-10-27/
LOCATION:South County Office\, 35 Grasso Plaza\, Saint Louis\, MO\, 63126\, United States
CATEGORIES:Canvass
ATTACH;FMTTYPE=image/png:https://southcountydems.com/wp-content/uploads/2024/10/image7.png
ORGANIZER;CN="Kevin Schartner":MAILTO:campaign@KevinForCountyCouncil.com
END:VEVENT
BEGIN:VEVENT
DTSTART;TZID=America/Chicago:20241026T100000
DTEND;TZID=America/Chicago:20241026T150000
DTSTAMP:20260421T061427
CREATED:20241025T220306Z
LAST-MODIFIED:20241102T122642Z
UID:10000145-1729936800-1729954800@southcountydems.com
SUMMARY:Knock Doors with Kevin Schartner
DESCRIPTION:Help us spread the word about Kevin Schartner by knocking doors with our team across South County! Bring your walking shoes\, water bottle\, and a charged cell phone. Meet us at the St. Louis County Democrats South County Office for a canvass launch. If you are a pro and want to grab a list and head out you are welcome to do so. If this is your first time or you need a refresher\, don’t worry we will be happy to help walking you through setting up MiniVAN and talking through best practices.\nLet us know you’re coming here: https://secure.ngpvan.com/p/H-PTUgUCPkum38Yhwd9Kng2\n\n\n Greet voters at polling places on Tuesday! For details and to sign up\, click the link.\nKevin Schartner http://mobilize.us/stlouiscountydemocraticc…/event/735357/
URL:https://southcountydems.com/event/knock-doors-with-kevin-schartner/2024-10-26/
LOCATION:South County Office\, 35 Grasso Plaza\, Saint Louis\, MO\, 63126\, United States
CATEGORIES:Canvass
ATTACH;FMTTYPE=image/png:https://southcountydems.com/wp-content/uploads/2024/10/image7.png
ORGANIZER;CN="Kevin Schartner":MAILTO:campaign@KevinForCountyCouncil.com
END:VEVENT
BEGIN:VEVENT
DTSTART;TZID=America/Chicago:20240731T173000
DTEND;TZID=America/Chicago:20240731T193000
DTSTAMP:20260421T061427
CREATED:20240713T121831Z
LAST-MODIFIED:20240713T122745Z
UID:10000043-1722447000-1722454200@southcountydems.com
SUMMARY:Let's taco'bout Kevin Schartner for County Council
DESCRIPTION:Join Tim and Ann Zimpfer on July 31 for a fundraiser for Kevin Schartner\, Democratic candidate for St. Louis County Council in the 6th district! \nhttps://secure.actblue.com/donate/schartnerjuly31
URL:https://southcountydems.com/event/lets-tacobout-kevin-schartner-for-county-council/
LOCATION:Ann & Tim Zimpfer\, 5907 Oakville Woods PLace\, Saint Louis\, MO\, 63129\, United States
CATEGORIES:Fundraiser
ATTACH;FMTTYPE=image/jpeg:https://southcountydems.com/wp-content/uploads/2024/07/att.tJ_3dgH4N2iwZ2gLF51jaoIUdI3i5_qHRcc6kj8-PM4.jpg
ORGANIZER;CN="Kevin Schartner":MAILTO:campaign@KevinForCountyCouncil.com
END:VEVENT
BEGIN:VEVENT
DTSTART;TZID=America/Chicago:20240717T173000
DTEND;TZID=America/Chicago:20240717T193000
DTSTAMP:20260421T061427
CREATED:20240709T120114Z
LAST-MODIFIED:20240709T120114Z
UID:10000041-1721237400-1721244600@southcountydems.com
SUMMARY:A night of fun and fundraising for Kevin Shartner
DESCRIPTION:Come on out to enjoy a fun night with silent auctions\, raffles and good company. Snacks and beverages are provided.Online contributions can be made at https://secure.actblue.com/donate/july_royale_orleans
URL:https://southcountydems.com/event/a-night-of-fun-and-fundraising-for-kevin-shartner/
LOCATION:Royale Orleans\, 2801 Telegraph Rd.\, St. Louis\, 63125
CATEGORIES:Fundraiser
ATTACH;FMTTYPE=image/jpeg:https://southcountydems.com/wp-content/uploads/2024/07/450089242_876253691198621_9030587073354657879_n.jpg
ORGANIZER;CN="Kevin Schartner":MAILTO:campaign@KevinForCountyCouncil.com
GEO:38.50834009089;-90.295329230073
X-APPLE-STRUCTURED-LOCATION;VALUE=URI;X-ADDRESS=Royale Orleans 2801 Telegraph Rd. St. Louis 63125;X-APPLE-RADIUS=500;X-TITLE=2801 Telegraph Rd.:geo:-90.295329230073,38.50834009089
END:VEVENT
BEGIN:VEVENT
DTSTART;TZID=America/Chicago:20240427T110000
DTEND;TZID=America/Chicago:20240427T140000
DTSTAMP:20260421T061427
CREATED:20240411T234005Z
LAST-MODIFIED:20240411T234005Z
UID:10000032-1714215600-1714226400@southcountydems.com
SUMMARY:Grill and Greet: Kevin Schartner's BBQ Fundraiser
DESCRIPTION:We are serving home made BBQ at the Cliff Cave County Park Main Pavilion. For a $25 BBQ ticket\, we will have hickory and apple wood smoked ribs\, pulled pork\, sides and non-alcoholic drinks available. Come on out to help support Kevin’s campaign over some great tasting food and good conversation. We will be at the main pavilion in Cliff Cave County Park.
URL:https://southcountydems.com/event/grill-and-greet-kevin-schartners-bbq-fundraiser/
LOCATION:Cliff Cave Park\, 872 Cliff Cave Rd.\, Saint Louis\, MO\, 63129\, United States
CATEGORIES:Fundraiser
ATTACH;FMTTYPE=image/jpeg:https://southcountydems.com/wp-content/uploads/2024/04/434837446_821360056687985_1570280879532187453_n.jpg
ORGANIZER;CN="Kevin Schartner":MAILTO:campaign@KevinForCountyCouncil.com
END:VEVENT
BEGIN:VEVENT
DTSTART;TZID=America/Chicago:20240229T173000
DTEND;TZID=America/Chicago:20240229T193000
DTSTAMP:20260421T061427
CREATED:20240129T135618Z
LAST-MODIFIED:20240129T135618Z
UID:10000019-1709227800-1709235000@southcountydems.com
SUMMARY:Kevin Schartner Kick-off Fundraising Reception
DESCRIPTION:Please join us for a Kickoff Fundraising Reception in honor of \nKevin Schartner\nCandidate for St. Louis County Council\, 6th District \nThursday\, February 29th\, 2024 (Leap Day!)\n5:30pm – 7:30pm \nHessler’s Pub & Grill\n11804 Tesson Ferry Road\nSaint Louis\, Missouri 63128 \nSuggested Contribution Levels:\n$2\,600 – $1\,000 – $500 – $250 – $100 \nPlease make checks payable to:\nKevin Schartner for County Council\nand mail to\nKevin Schartner for County Council\nP.O. Box 510408\nSaint Louis\, MO 63151 \nor donate online at https://secure.actblue.com/donate/KevinSchartnerKickoff
URL:https://southcountydems.com/event/kevin-schartner-kick-off-fundraising-reception/
LOCATION:Hessler’s Pub & Grill\, 11804 Tesson Ferry Road\, Saint Louis\, 63128
CATEGORIES:Fundraiser
ATTACH;FMTTYPE=image/png:https://southcountydems.com/wp-content/uploads/2024/01/KevinSchartnerLogo-TransparentBackground3Color500x500.png
ORGANIZER;CN="Kevin Schartner":MAILTO:campaign@KevinForCountyCouncil.com
END:VEVENT
END:VCALENDAR