BEGIN:VCALENDAR
VERSION:2.0
PRODID:-//South County Dems STL - ECPv6.15.20//NONSGML v1.0//EN
CALSCALE:GREGORIAN
METHOD:PUBLISH
X-WR-CALNAME:South County Dems STL
X-ORIGINAL-URL:https://southcountydems.com
X-WR-CALDESC:Events for South County Dems STL
REFRESH-INTERVAL;VALUE=DURATION:PT1H
X-Robots-Tag:noindex
X-PUBLISHED-TTL:PT1H
BEGIN:VTIMEZONE
TZID:America/Chicago
BEGIN:DAYLIGHT
TZOFFSETFROM:-0600
TZOFFSETTO:-0500
TZNAME:CDT
DTSTART:20230312T080000
END:DAYLIGHT
BEGIN:STANDARD
TZOFFSETFROM:-0500
TZOFFSETTO:-0600
TZNAME:CST
DTSTART:20231105T070000
END:STANDARD
BEGIN:DAYLIGHT
TZOFFSETFROM:-0600
TZOFFSETTO:-0500
TZNAME:CDT
DTSTART:20240310T080000
END:DAYLIGHT
BEGIN:STANDARD
TZOFFSETFROM:-0500
TZOFFSETTO:-0600
TZNAME:CST
DTSTART:20241103T070000
END:STANDARD
BEGIN:DAYLIGHT
TZOFFSETFROM:-0600
TZOFFSETTO:-0500
TZNAME:CDT
DTSTART:20250309T080000
END:DAYLIGHT
BEGIN:STANDARD
TZOFFSETFROM:-0500
TZOFFSETTO:-0600
TZNAME:CST
DTSTART:20251102T070000
END:STANDARD
END:VTIMEZONE
BEGIN:VEVENT
DTSTART;TZID=America/Chicago:20240511T120000
DTEND;TZID=America/Chicago:20240511T140000
DTSTAMP:20260419T090042
CREATED:20240502T182021Z
LAST-MODIFIED:20240502T182021Z
UID:10000034-1715428800-1715436000@southcountydems.com
SUMMARY:Leslie Derrington Meet and Greet
DESCRIPTION:This is a great opportunity to meet with Leslie Derrington in a family-friendly (and dog-friendly!) setting and learn more about her vision for our community.\nShe’ll be greeting neighbors from the 96th District in White Cliff Park on Saturday\, May 11 from 12:00 pm until 2:00 pm.\nWhen you enter the park\, make the very first right into the lower lot and park your car or bike there.\nThank you for supporting Leslie’s campaign: https://secure.actblue.com/…/friends-of-leslie…
URL:https://southcountydems.com/event/leslie-derrington-meet-and-greet/
LOCATION:Whitecliff Park\, 9347 Whitecliff Park Ln\, Saint Louis\, MO\, 63126\, United States
CATEGORIES:Social
ATTACH;FMTTYPE=image/jpeg:https://southcountydems.com/wp-content/uploads/2024/05/438204990_415965404483261_6026886545641998087_n.jpg
ORGANIZER;CN="Leslie Derrington":MAILTO:friends@lesliederrington4mo.com
END:VEVENT
BEGIN:VEVENT
DTSTART;TZID=America/Chicago:20240301T150000
DTEND;TZID=America/Chicago:20240301T173000
DTSTAMP:20260419T090042
CREATED:20240301T164222Z
LAST-MODIFIED:20240301T164222Z
UID:10000024-1709305200-1709314200@southcountydems.com
SUMMARY:Canvass for Leslie Derrington
DESCRIPTION:Join our team to get the word out about our campaign\, and help us talk to neighbors on the doors! Because of your support\, we can flip this seat.\n\nBring your walking shoes\, a charged phone\, a water bottle and a can-do attitude\, and we’ll see you at Whitecliff Park!\n\n(We’re meeting at the bottom part of the park!)
URL:https://southcountydems.com/event/canvass-for-leslie-derrington/
LOCATION:Whitecliff Park\, 9347 Whitecliff Park Ln\, Saint Louis\, MO\, 63126\, United States
CATEGORIES:Service
ATTACH;FMTTYPE=image/jpeg:https://southcountydems.com/wp-content/uploads/2024/03/430177828_380099338069868_6541274685815838434_n.jpg
ORGANIZER;CN="Leslie Derrington":MAILTO:friends@lesliederrington4mo.com
END:VEVENT
END:VCALENDAR